BEGIN:VCALENDAR
VERSION:2.0
PRODID:-//Special Olympics - Sioux Falls Fireworks - ECPv6.15.20//NONSGML v1.0//EN
CALSCALE:GREGORIAN
METHOD:PUBLISH
X-WR-CALNAME:Special Olympics - Sioux Falls Fireworks
X-ORIGINAL-URL:https://sosiouxfalls.org
X-WR-CALDESC:Events for Special Olympics - Sioux Falls Fireworks
REFRESH-INTERVAL;VALUE=DURATION:PT1H
X-Robots-Tag:noindex
X-PUBLISHED-TTL:PT1H
BEGIN:VTIMEZONE
TZID:UTC
BEGIN:STANDARD
TZOFFSETFROM:+0000
TZOFFSETTO:+0000
TZNAME:UTC
DTSTART:20250101T000000
END:STANDARD
END:VTIMEZONE
BEGIN:VEVENT
DTSTART;VALUE=DATE:20260816
DTEND;VALUE=DATE:20260817
DTSTAMP:20260422T095335
CREATED:20251130T174028Z
LAST-MODIFIED:20251130T174137Z
UID:10000040-1786838400-1786924799@sosiouxfalls.org
SUMMARY:SE Area Bocce Ball Tournament
DESCRIPTION:McCart Park \n1926 W Burnside St\, Sioux Falls
URL:https://sosiouxfalls.org/event/se-area-bocce-ball-tournament-2/
CATEGORIES:Tournaments
END:VEVENT
END:VCALENDAR